BEGIN:VCALENDAR
VERSION:2.0
PRODID:icalendar-ruby
CALSCALE:GREGORIAN
BEGIN:VEVENT
DTSTAMP:20260425T160257Z
UID:e4c8f5b3-65e8-4368-8182-4ba444cdef9c
DTSTART:20261004T090000Z
DTEND:20261008T170000Z
DESCRIPTION:A 4-day summit of talks\, posters\, activities\, and discussion
LOCATION:Monterey\, CA\, USA
SUMMARY:13th International Workshop on Infrared Microscopy and Spectroscopy
  with Accelerator-Based Light Sources (WIRMS 2026)
URL;VALUE=URI:https://wirms2026.lbl.gov/
END:VEVENT
END:VCALENDAR
