BEGIN:VCALENDAR
VERSION:2.0
PRODID:icalendar-ruby
CALSCALE:GREGORIAN
BEGIN:VEVENT
DTSTAMP:20260425T160017Z
UID:dd0b2d48-4a3a-4977-a99b-111a2115095a
DTSTART:20250901T090000Z
DTEND:20260515T170000Z
DESCRIPTION:Under the pre-proposal call\, scientists can benefit from the s
 upport of the ReMade@ARI’s Smart Science Cluster team to develop their p
 reliminary research idea(s) into a full ReMade-TNA proposal.
LOCATION:Europe (a variety of locations)
SUMMARY:ReMade Pre-Proposal Submission
URL;VALUE=URI:https://apply.remade-project.eu/submit-call/?id=212
END:VEVENT
END:VCALENDAR
