BEGIN:VCALENDAR
VERSION:2.0
PRODID:icalendar-ruby
CALSCALE:GREGORIAN
BEGIN:VEVENT
DTSTAMP:20260425T160651Z
UID:fcb803dc-fd5d-484e-a532-7c81f04383d3
DTSTART:20260206T090000Z
DTEND:20261231T170000Z
DESCRIPTION:The RIANA – TNA Access is Now Open.\n\nWe accept user proposa
 ls based on a “continuous call” concept.\n\nApplications for Pre-propo
 sals are not mandatory but are highly encouraged.
LOCATION:Various locations where participating research instruments and syn
 chrotron facilities are located
SUMMARY:RIANA (Research Infrastructure Access in Nanoscience & Nanotechnolo
 gy) – TNA User Access
URL;VALUE=URI:https://riana-project.eu/user-access-guidelines/
END:VEVENT
END:VCALENDAR
