BEGIN:VCALENDAR
VERSION:2.0
PRODID:icalendar-ruby
CALSCALE:GREGORIAN
BEGIN:VEVENT
DTSTAMP:20260425T160258Z
UID:bfa90de6-5644-4c09-99e9-fe35f0eb6c14
DTSTART:20250901T090000Z
DTEND:20260529T170000Z
DESCRIPTION:Under the new Rolling Call\, proposals can be submitted at any 
 time during the period September 2025 – May 2026\, giving scientists mor
 e flexibility and time to carefully prepare\, develop\, and refine their r
 esearch ideas.
LOCATION:Europe (various)
SUMMARY:Rolling Call for ReMade-TNA
URL;VALUE=URI:https://apply.remade-project.eu/submit-proposal?acid=170
END:VEVENT
END:VCALENDAR
